BEGIN:VCALENDAR
VERSION:2.0
PRODID:-//Intand Corporation//Tandem//EN
METHOD:PUBLISH
BEGIN:VEVENT
DTSTAMP:20260426T022544Z
DTSTART:20260424T151500Z
DTEND:20260424T154500Z
TRANSP:TRANSPARENT
PRIORITY:0
SUMMARY:OH Month of the Military Child Breakfast
LOCATION:Orchard Heights Elementary
DESCRIPTION:Invite Only for our Military Sharks\n\n\nSchools:\nOrchard Hei
 ghts Elementary\n\nLocation:\nOrchard Heights Elementary\n\n
URL;VALUE=URI:https://skitsap.tandem.co/index.php?type=view&action=event&i
 d=166522
CREATED:20260423T201845Z
LAST-MODIFIED:20260423T201845Z
UID:event-166522-skitsap@intand.com
END:VEVENT
END:VCALENDAR
